View In:
ArcGIS JavaScript
ArcGIS Online Map Viewer
ArcGIS Earth
ArcMap
View Footprint In:
ArcGIS Online Map Viewer
Service Description: Pluvials_Test/test_raster_dataset2_2
Name: Pluvials_Test/test_raster_dataset2_2
Description:
Single Fused Map Cache: false
Extent:
XMin: -8705215.372103015
YMin: 4365686.386794588
XMax: -8357694.295303815
YMax: 4777223.645748689
Spatial Reference: 102100
(3857)
Initial Extent:
XMin: -8705215.372103015
YMin: 4365686.386794588
XMax: -8357694.295303815
YMax: 4777223.645748689
Spatial Reference: 102100
(3857)
Full Extent:
XMin: -8705215.372103015
YMin: 4365686.386794588
XMax: -8357694.295303815
YMax: 4777223.645748689
Spatial Reference: 102100
(3857)
Pixel Size X: 3.9491031454454535
Pixel Size Y: 3.9381555880775236
Band Count: 1
Pixel Type: U8
RasterFunction Infos: {"rasterFunctionInfos": [{
"name": "None",
"description": "",
"help": ""
}]}
Mensuration Capabilities: Basic
Has Histograms: true
Has Colormap: false
Has Multi Dimensions : false
Rendering Rule:
Min Scale: 0
Max Scale: 0
Copyright Text:
Service Data Type: esriImageServiceDataTypeGeneric
Min Values: 40
Max Values: 100
Mean Values: 58.46985313459178
Standard Deviation Values: 22.794358228903743
Object ID Field:
Fields:
None
Default Mosaic Method: Center
Allowed Mosaic Methods:
SortField:
SortValue: null
Mosaic Operator: First
Default Compression Quality: 75
Default Resampling Method: Nearest
Max Record Count: null
Max Image Height: 4100
Max Image Width: 15000
Max Download Image Count: null
Max Mosaic Image Count: null
Allow Raster Function: true
Allow Copy: true
Allow Analysis: true
Allow Compute TiePoints: false
Supports Statistics: false
Supports Advanced Queries: false
Use StandardizedQueries: true
Raster Type Infos:
Name: Raster Dataset
Description: Supports all ArcGIS Raster Datasets
Help:
Has Raster Attribute Table: true
Edit Fields Info: null
Ownership Based AccessControl For Rasters: null
Child Resources:
Info
Raster Attribute Table
Histograms
Statistics
Key Properties
Legend
Raster Function Infos
Supported Operations:
Export Image
Identify
Measure
Compute Histograms
Compute Statistics Histograms
Get Samples
Compute Class Statistics
Query Boundary
Compute Pixel Location
Validate
Project