View In:
ArcGIS JavaScript
ArcGIS Online Map Viewer
ArcGIS Earth
ArcMap
View Footprint In:
ArcGIS Online Map Viewer
Service Description: Pluvials_Test/fluvial_inundation_graduation_2020_8bitUnsigned_ArcMap
Name: Pluvials_Test/fluvial_inundation_graduation_2020_8bitUnsigned_ArcMap
Description:
Single Fused Map Cache: false
Extent:
XMin: -8705215.092224
YMin: 4365685.962584524
XMax: -8357693.185417944
YMax: 4777222.516812
Spatial Reference: 102100
(3857)
Initial Extent:
XMin: -8705215.092224
YMin: 4365685.962584524
XMax: -8357693.185417944
YMax: 4777222.516812
Spatial Reference: 102100
(3857)
Full Extent:
XMin: -8705215.092224
YMin: 4365685.962584524
XMax: -8357693.185417944
YMax: 4777222.516812
Spatial Reference: 102100
(3857)
Pixel Size X: 3.869825137312299
Pixel Size Y: 3.869825137312295
Band Count: 1
Pixel Type: U8
RasterFunction Infos: {"rasterFunctionInfos": [{
"name": "None",
"description": "",
"help": ""
}]}
Mensuration Capabilities: Basic
Has Histograms: true
Has Colormap: false
Has Multi Dimensions : false
Rendering Rule:
Min Scale: 0
Max Scale: 0
Copyright Text:
Service Data Type: esriImageServiceDataTypeGeneric
Min Values: 10
Max Values: 100
Mean Values: 20.639359530563
Standard Deviation Values: 22.913884440643
Object ID Field:
Fields:
None
Default Mosaic Method: Center
Allowed Mosaic Methods:
SortField:
SortValue: null
Mosaic Operator: First
Default Compression Quality: 75
Default Resampling Method: Bilinear
Max Record Count: null
Max Image Height: 4100
Max Image Width: 15000
Max Download Image Count: null
Max Mosaic Image Count: null
Allow Raster Function: true
Allow Copy: null
Allow Analysis: null
Allow Compute TiePoints: false
Supports Statistics: false
Supports Advanced Queries: false
Use StandardizedQueries: true
Raster Type Infos:
Name: Raster Dataset
Description: Supports all ArcGIS Raster Datasets
Help:
Has Raster Attribute Table: true
Edit Fields Info: null
Ownership Based AccessControl For Rasters: null
Child Resources:
Info
Raster Attribute Table
Histograms
Key Properties
Legend
Raster Function Infos
Supported Operations:
Export Image
Identify
Measure
Compute Histograms
Compute Statistics Histograms
Get Samples
Compute Class Statistics
Query Boundary
Compute Pixel Location
Validate
Project