View In:
ArcGIS JavaScript
ArcGIS Online Map Viewer
ArcGIS Earth
ArcMap
View Footprint In:
ArcGIS Online Map Viewer
Service Description: Pluvials_Test/dominance_far_future_low_tolerance_8bit_tif2
Name: Pluvials_Test/dominance_far_future_low_tolerance_8bit_tif2
Description:
Single Fused Map Cache: false
Extent:
XMin: 11571000
YMin: 3348000
XMax: 12451000
YMax: 4393000
Spatial Reference: PROJCS["NAD_1983_StatePlane_Virginia_South_FIPS_4502_Feet",GEOGCS["GCS_North_American_1983",DATUM["D_North_American_1983",SPHEROID["GRS_1980",6378137.0,298.257222101]],PRIMEM["Greenwich",0.0],UNIT["Degree",0.0174532925199433]],PROJECTION["Lambert_Conformal_Conic"],PARAMETER["False_Easting",11482916.667],PARAMETER["False_Northing",3280833.333],PARAMETER["Central_Meridian",-78.5],PARAMETER["Standard_Parallel_1",36.7666666666667],PARAMETER["Standard_Parallel_2",37.9666666666667],PARAMETER["Latitude_Of_Origin",36.3333333333333],UNIT["Foot_US",0.3048006096012192]]
Initial Extent:
XMin: 11571000
YMin: 3348000
XMax: 12451000
YMax: 4393000
Spatial Reference: PROJCS["NAD_1983_StatePlane_Virginia_South_FIPS_4502_Feet",GEOGCS["GCS_North_American_1983",DATUM["D_North_American_1983",SPHEROID["GRS_1980",6378137.0,298.257222101]],PRIMEM["Greenwich",0.0],UNIT["Degree",0.0174532925199433]],PROJECTION["Lambert_Conformal_Conic"],PARAMETER["False_Easting",11482916.667],PARAMETER["False_Northing",3280833.333],PARAMETER["Central_Meridian",-78.5],PARAMETER["Standard_Parallel_1",36.7666666666667],PARAMETER["Standard_Parallel_2",37.9666666666667],PARAMETER["Latitude_Of_Origin",36.3333333333333],UNIT["Foot_US",0.3048006096012192]]
Full Extent:
XMin: 11571000
YMin: 3348000
XMax: 12451000
YMax: 4393000
Spatial Reference: PROJCS["NAD_1983_StatePlane_Virginia_South_FIPS_4502_Feet",GEOGCS["GCS_North_American_1983",DATUM["D_North_American_1983",SPHEROID["GRS_1980",6378137.0,298.257222101]],PRIMEM["Greenwich",0.0],UNIT["Degree",0.0174532925199433]],PROJECTION["Lambert_Conformal_Conic"],PARAMETER["False_Easting",11482916.667],PARAMETER["False_Northing",3280833.333],PARAMETER["Central_Meridian",-78.5],PARAMETER["Standard_Parallel_1",36.7666666666667],PARAMETER["Standard_Parallel_2",37.9666666666667],PARAMETER["Latitude_Of_Origin",36.3333333333333],UNIT["Foot_US",0.3048006096012192]]
Pixel Size X: 10.0
Pixel Size Y: 10.0
Band Count: 1
Pixel Type: U8
RasterFunction Infos: {"rasterFunctionInfos": [{
"name": "None",
"description": "",
"help": ""
}]}
Mensuration Capabilities: Basic
Has Histograms: true
Has Colormap: true
Has Multi Dimensions : false
Rendering Rule:
Min Scale: 0
Max Scale: 0
Copyright Text:
Service Data Type: esriImageServiceDataTypeThematic
Min Values: 1
Max Values: 3
Mean Values: 1.4384242267007
Standard Deviation Values: 0.51679115627564
Object ID Field:
Fields:
None
Default Mosaic Method: Center
Allowed Mosaic Methods:
SortField:
SortValue: null
Mosaic Operator: First
Default Compression Quality: 75
Default Resampling Method: Bilinear
Max Record Count: null
Max Image Height: 4100
Max Image Width: 15000
Max Download Image Count: null
Max Mosaic Image Count: null
Allow Raster Function: true
Allow Copy: true
Allow Analysis: true
Allow Compute TiePoints: false
Supports Statistics: false
Supports Advanced Queries: false
Use StandardizedQueries: true
Raster Type Infos:
Name: Raster Dataset
Description: Supports all ArcGIS Raster Datasets
Help:
Has Raster Attribute Table: true
Edit Fields Info: null
Ownership Based AccessControl For Rasters: null
Child Resources:
Info
Raster Attribute Table
Histograms
Statistics
Key Properties
Color Map
Legend
Raster Function Infos
Supported Operations:
Export Image
Identify
Measure
Compute Histograms
Compute Statistics Histograms
Get Samples
Compute Class Statistics
Query Boundary
Compute Pixel Location
Validate
Project