View In:
ArcGIS JavaScript
ArcGIS Online Map Viewer
ArcGIS Earth
ArcMap
View Footprint In:
ArcGIS Online Map Viewer
Service Description: PLUVIALS_GRADUATED/aep_present_all_durations_epsg2284
Name: PLUVIALS_GRADUATED/aep_present_all_durations_epsg2284
Description:
Single Fused Map Cache: false
Extent:
XMin: 11571000
YMin: 3348000
XMax: 12451000
YMax: 4393000
Spatial Reference: 102747
(2284)
Initial Extent:
XMin: 11571000
YMin: 3348000
XMax: 12451000
YMax: 4393000
Spatial Reference: 102747
(2284)
Full Extent:
XMin: 11571000
YMin: 3348000
XMax: 12451000
YMax: 4393000
Spatial Reference: 102747
(2284)
Pixel Size X: 10.0
Pixel Size Y: 10.0
Band Count: 1
Pixel Type: U8
RasterFunction Infos: {"rasterFunctionInfos": [{
"name": "None",
"description": "",
"help": ""
}]}
Mensuration Capabilities: Basic
Has Histograms: false
Has Colormap: false
Has Multi Dimensions : false
Rendering Rule:
Min Scale: 0
Max Scale: 0
Copyright Text:
Service Data Type: esriImageServiceDataTypeGeneric
Min Values: 0
Max Values: 127
Mean Values: 0
Standard Deviation Values: -1
Object ID Field:
Fields:
None
Default Mosaic Method: Center
Allowed Mosaic Methods:
SortField:
SortValue: null
Mosaic Operator: First
Default Compression Quality: 75
Default Resampling Method: Nearest
Max Record Count: null
Max Image Height: 4100
Max Image Width: 15000
Max Download Image Count: null
Max Mosaic Image Count: null
Allow Raster Function: true
Allow Copy: true
Allow Analysis: true
Allow Compute TiePoints: false
Supports Statistics: false
Supports Advanced Queries: false
Use StandardizedQueries: true
Raster Type Infos:
Name: Raster Dataset
Description: Supports all ArcGIS Raster Datasets
Help:
Has Raster Attribute Table: true
Edit Fields Info: null
Ownership Based AccessControl For Rasters: null
Child Resources:
Info
Raster Attribute Table
Statistics
Key Properties
Legend
Raster Function Infos
Supported Operations:
Export Image
Identify
Measure
Compute Histograms
Compute Statistics Histograms
Get Samples
Compute Class Statistics
Query Boundary
Compute Pixel Location
Validate
Project