View In:
ArcGIS JavaScript
ArcGIS Online Map Viewer
ArcGIS Earth
ArcMap
ArcGIS Pro
View Footprint In:
ArcGIS Online Map Viewer
Service Description: Virginia Coastal Resilience Master Plan (VA CRMP) pluvial flood depth grids. Represents the maximum flood depth in feet at any given location for rainfall flooding simulations for 2-, 6-, and 24-hour durations, at the 2-, 5-, 10-, 25-, 50-, 100-, and 500-yr return periods for the DCR CRMP Phase 2 planning scenarios. The depths are an output of region-wide rain on grid pluvial modeling using HEC-RAS completed by DCR in 2024. Data is provided at a 10 ft horizontal resolution. A minimum depth threshold of 0.5 ft was applied to the grids, meaning depth values less than 0.5 ft are not represented. Anomalous high values were also excluded. Product names indicate the DCR CRMP Phase 2 planning scenario and representative rainfall return period (for example, 002yr, 010yr are the 2- and 10-year return period rainfall intensities, respectively). See DCR VA CRMP Pluvial Modeling and Phase 2 Hazard Data Technical Reports for details on data development and processing.
Map Name: Map
Legend
All Layers and Tables
Dynamic Legend
Dynamic All Layers
Layers:
Description:
Copyright Text:
Spatial Reference:
102100
(3857)
Single Fused Map Cache: true
Tile Info:
- Height: 256
- Width: 256
- DPI: 96
-
Levels of Detail: 24
-
Level ID: 1
[ Start Tile, End Tile ]
- Resolution: 78271.5169639999
- Scale: 2.95828763795777E8
-
Level ID: 2
[ Start Tile, End Tile ]
- Resolution: 39135.7584820001
- Scale: 1.47914381897889E8
-
Level ID: 3
[ Start Tile, End Tile ]
- Resolution: 19567.8792409999
- Scale: 7.3957190948944E7
-
Level ID: 4
[ Start Tile, End Tile ]
- Resolution: 9783.93962049996
- Scale: 3.6978595474472E7
-
Level ID: 5
[ Start Tile, End Tile ]
- Resolution: 4891.96981024998
- Scale: 1.8489297737236E7
- Format: MIXED
- Compression Quality: 75.0
- Origin: X: -2.0037508342787E7
Y: 2.0037508342787E7
- Spatial Reference: 102100
(3857)
Initial Extent:
XMin: -8797656.168421097
YMin: 4345109.523846881
XMax: -8265253.498985731
YMax: 4797800.508696394
Spatial Reference: 102100
Full Extent:
XMin: -8705215.37222888
YMin: 4365686.386925656
XMax: -8357694.295430099
YMax: 4777223.645880846
Spatial Reference: 102100
Units: esriMeters
Supported Image Format Types: PNG32,PNG24,PNG,JPG,DIB,TIFF,EMF,PS,PDF,GIF,SVG,SVGZ,BMP
Document Info:
Title: Map
Author:
Comments:
Subject:
Category:
Keywords: Pluvial depth CRMP
AntialiasingMode: None
TextAntialiasingMode: Force
Supports Dynamic Layers: true
MaxRecordCount: 2000
MaxImageHeight: 4096
MaxImageWidth: 4096
Supported Query Formats: JSON, geoJSON, PBF
Supports Query Data Elements: true
Min Scale: 5.91657527591555E8
Max Scale: 4513.988705
Min LOD: 0
Max LOD: 23
Supports Datum Transformation: true
Child Resources:
Info
Dynamic Layer
Supported Operations:
Export Map
Identify
QueryDomains
QueryLegends
Find
Return Updates