{
 "currentVersion": 10.81,
 "serviceDescription": "Pluvials_Test/fluvial_inundation_graduation_2020_16bitUnsigned_tiff",
 "name": "Pluvials_Test/fluvial_inundation_graduation_2020_16bitUnsigned_tiff",
 "description": "",
 "extent": {
  "xmin": -8705215.092224,
  "ymin": 4365685.962584524,
  "xmax": -8357693.185417944,
  "ymax": 4777222.516812,
  "spatialReference": {
   "wkid": 102100,
   "latestWkid": 3857
  }
 },
 "initialExtent": {
  "xmin": -8705215.092224,
  "ymin": 4365685.962584524,
  "xmax": -8357693.185417944,
  "ymax": 4777222.516812,
  "spatialReference": {
   "wkid": 102100,
   "latestWkid": 3857
  }
 },
 "fullExtent": {
  "xmin": -8705215.092224,
  "ymin": 4365685.962584524,
  "xmax": -8357693.185417944,
  "ymax": 4777222.516812,
  "spatialReference": {
   "wkid": 102100,
   "latestWkid": 3857
  }
 },
 "pixelSizeX": 3.869825137312299,
 "pixelSizeY": 3.869825137312295,
 "datasetFormat": "TIFF",
 "uncompressedSize": 19100200070,
 "blockWidth": 512,
 "blockHeight": 512,
 "compressionType": "LZW",
 "bandNames": [
  "Band_1"
 ],
 "allowCopy": true,
 "allowAnalysis": true,
 "bandCount": 1,
 "noDataValue": 0,
 "noDataValues": [
  0
 ],
 "pixelType": "U16",
 "minPixelSize": 0,
 "maxPixelSize": 0,
 "copyrightText": "",
 "serviceDataType": "esriImageServiceDataTypeGeneric",
 "serviceSourceType": "esriImageServiceSourceTypeDataset",
 "minValues": [
  10
 ],
 "maxValues": [
  100
 ],
 "meanValues": [
  20.639359530563
 ],
 "stdvValues": [
  22.913884440643
 ],
 "objectIdField": "",
 "fields": [],
 "capabilities": "Image,Metadata,Pixels,Mensuration",
 "defaultMosaicMethod": "Center",
 "allowedMosaicMethods": "",
 "sortField": "",
 "sortValue": null,
 "sortAscending": true,
 "mosaicOperator": "First",
 "defaultCompressionQuality": 75,
 "defaultResamplingMethod": "Bilinear",
 "maxImageHeight": 4100,
 "maxImageWidth": 15000,
 "allowRasterFunction": true,
 "rasterFunctionInfos": [
  {
   "name": "None",
   "description": "",
   "help": ""
  }
 ],
 "rasterTypeInfos": [
  {
   "name": "Raster Dataset",
   "description": "Supports all ArcGIS Raster Datasets",
   "help": ""
  }
 ],
 "mensurationCapabilities": "Basic",
 "hasHistograms": true,
 "hasColormap": false,
 "hasRasterAttributeTable": true,
 "minScale": 0,
 "maxScale": 0,
 "exportTilesAllowed": false,
 "hasMultidimensions": false,
 "supportsStatistics": false,
 "supportsAdvancedQueries": false,
 "editFieldsInfo": null,
 "ownershipBasedAccessControlForRasters": null,
 "allowComputeTiePoints": false,
 "useStandardizedQueries": true,
 "advancedQueryCapabilities": {
  "useStandardizedQueries": true,
  "supportsStatistics": false,
  "supportsOrderBy": false,
  "supportsDistinct": false,
  "supportsPagination": false
 },
 "spatialReference": {
  "wkid": 102100,
  "latestWkid": 3857
 }
}
